BEGIN:VCALENDAR
VERSION:2.0
PRODID:-//West Tradies - ECPv6.15.20//NONSGML v1.0//EN
CALSCALE:GREGORIAN
METHOD:PUBLISH
X-ORIGINAL-URL:https://westtradies.com.au
X-WR-CALDESC:Events for West Tradies
REFRESH-INTERVAL;VALUE=DURATION:PT1H
X-Robots-Tag:noindex
X-PUBLISHED-TTL:PT1H
BEGIN:VTIMEZONE
TZID:Australia/Sydney
BEGIN:STANDARD
TZOFFSETFROM:+1100
TZOFFSETTO:+1000
TZNAME:AEST
DTSTART:20240406T160000
END:STANDARD
BEGIN:DAYLIGHT
TZOFFSETFROM:+1000
TZOFFSETTO:+1100
TZNAME:AEDT
DTSTART:20241005T160000
END:DAYLIGHT
BEGIN:STANDARD
TZOFFSETFROM:+1100
TZOFFSETTO:+1000
TZNAME:AEST
DTSTART:20250405T160000
END:STANDARD
BEGIN:DAYLIGHT
TZOFFSETFROM:+1000
TZOFFSETTO:+1100
TZNAME:AEDT
DTSTART:20251004T160000
END:DAYLIGHT
BEGIN:STANDARD
TZOFFSETFROM:+1100
TZOFFSETTO:+1000
TZNAME:AEST
DTSTART:20260404T160000
END:STANDARD
BEGIN:DAYLIGHT
TZOFFSETFROM:+1000
TZOFFSETTO:+1100
TZNAME:AEDT
DTSTART:20261003T160000
END:DAYLIGHT
BEGIN:STANDARD
TZOFFSETFROM:+1100
TZOFFSETTO:+1000
TZNAME:AEST
DTSTART:20270403T160000
END:STANDARD
BEGIN:DAYLIGHT
TZOFFSETFROM:+1000
TZOFFSETTO:+1100
TZNAME:AEDT
DTSTART:20271002T160000
END:DAYLIGHT
END:VTIMEZONE
BEGIN:VEVENT
DTSTART;TZID=Australia/Sydney:20250507T163000
DTEND;TZID=Australia/Sydney:20260507T183000
DTSTAMP:20260426T032720
CREATED:20230216T231012Z
LAST-MODIFIED:20250411T022027Z
UID:10006256-1746635400-1778178600@westtradies.com.au
SUMMARY:HAPPY HOUR
DESCRIPTION:
URL:https://westtradies.com.au/event/happy-hour/2025-05-07/
CATEGORIES:Weekly Promotions
ATTACH;FMTTYPE=image/jpeg:https://westtradies.com.au/wp-content/uploads/2023/02/Happy-Hour-Website-FT-Image-25.jpg
END:VEVENT
BEGIN:VEVENT
DTSTART;TZID=Australia/Sydney:20250507T180000
DTEND;TZID=Australia/Sydney:20260507T193000
DTSTAMP:20260426T032720
CREATED:20230217T003735Z
LAST-MODIFIED:20231120T030954Z
UID:10004174-1746640800-1778182200@westtradies.com.au
SUMMARY:WEDNESDAY MEAT RAFFLE
DESCRIPTION:
URL:https://westtradies.com.au/event/wednesday-meat-raffle/2025-05-07/
CATEGORIES:Weekly Promotions
ATTACH;FMTTYPE=image/jpeg:https://westtradies.com.au/wp-content/uploads/2023/02/WT_MeatRaffles-WED_POS-Copy.jpeg
END:VEVENT
BEGIN:VEVENT
DTSTART;TZID=Australia/Sydney:20250508T103000
DTEND;TZID=Australia/Sydney:20260508T233000
DTSTAMP:20260426T032720
CREATED:20241202T060436Z
LAST-MODIFIED:20251119T045913Z
UID:10004659-1746700200-1778283000@westtradies.com.au
SUMMARY:SHOPPERS BINGO
DESCRIPTION:
URL:https://westtradies.com.au/event/shoppers-bingo-2/2025-05-08/
CATEGORIES:Weekly Promotions
ATTACH;FMTTYPE=image/jpeg:https://westtradies.com.au/wp-content/uploads/2024/12/NEW-BINGO-Socials-1080-X-1080.jpg
END:VEVENT
BEGIN:VEVENT
DTSTART;TZID=Australia/Sydney:20250508T180000
DTEND;TZID=Australia/Sydney:20260507T233000
DTSTAMP:20260426T032720
CREATED:20241114T113118Z
LAST-MODIFIED:20241114T113533Z
UID:10019879-1746727200-1778196600@westtradies.com.au
SUMMARY:GOLFERS MEAT RAFFLE
DESCRIPTION:
URL:https://westtradies.com.au/event/golfers-meat-raffle/2025-05-08/
CATEGORIES:Weekly Promotions
ATTACH;FMTTYPE=image/png:https://westtradies.com.au/wp-content/uploads/2024/11/Golfers-Meat-Raffle-Instagram-Post-1.png
END:VEVENT
BEGIN:VEVENT
DTSTART;TZID=Australia/Sydney:20250510T150000
DTEND;TZID=Australia/Sydney:20260510T163000
DTSTAMP:20260426T032720
CREATED:20230217T013700Z
LAST-MODIFIED:20231120T031821Z
UID:10003860-1746889200-1778430600@westtradies.com.au
SUMMARY:SATURDAY MEAT RAFFLE
DESCRIPTION:
URL:https://westtradies.com.au/event/saturday-meat-raffle/2025-05-10/
CATEGORIES:Weekly Promotions
ATTACH;FMTTYPE=image/jpeg:https://westtradies.com.au/wp-content/uploads/2023/02/WT_DartsFishosMeatRaffle_POS.jpeg
END:VEVENT
BEGIN:VEVENT
DTSTART;TZID=Australia/Sydney:20250511T153000
DTEND;TZID=Australia/Sydney:20260511T170000
DTSTAMP:20260426T032720
CREATED:20230217T014008Z
LAST-MODIFIED:20231120T031848Z
UID:10003546-1746977400-1778518800@westtradies.com.au
SUMMARY:SUNDAY MEAT RAFFLE
DESCRIPTION:
URL:https://westtradies.com.au/event/sunday-meat-raffle/2025-05-11/
CATEGORIES:Weekly Promotions
ATTACH;FMTTYPE=image/jpeg:https://westtradies.com.au/wp-content/uploads/2023/02/WT_MeatRaffles-SUN_POS.jpeg
END:VEVENT
BEGIN:VEVENT
DTSTART;VALUE=DATE:20251127
DTEND;VALUE=DATE:20260508
DTSTAMP:20260426T032720
CREATED:20240228T065127Z
LAST-MODIFIED:20240228T065132Z
UID:10013725-1764201600-1778126399@westtradies.com.au
SUMMARY:NFL
DESCRIPTION:
URL:https://westtradies.com.au/event/nfl-2/2025-11-27/
CATEGORIES:Live Sport
ATTACH;FMTTYPE=image/jpeg:https://westtradies.com.au/wp-content/uploads/2023/11/ESPN-NFL-1080x1080-1-e1700456246220.jpg
END:VEVENT
BEGIN:VEVENT
DTSTART;VALUE=DATE:20260507
DTEND;VALUE=DATE:20260508
DTSTAMP:20260426T032720
CREATED:20231120T042630Z
LAST-MODIFIED:20231120T062354Z
UID:10010230-1778112000-1778194799@westtradies.com.au
SUMMARY:NRL
DESCRIPTION:
URL:https://westtradies.com.au/event/nrl/2026-05-07/
CATEGORIES:Live Sport
ATTACH;FMTTYPE=image/png:https://westtradies.com.au/wp-content/uploads/2023/11/FOX-LEAGUE-e1700454374923.png
END:VEVENT
BEGIN:VEVENT
DTSTART;VALUE=DATE:20260507
DTEND;VALUE=DATE:20260508
DTSTAMP:20260426T032720
CREATED:20231120T044905Z
LAST-MODIFIED:20231120T045110Z
UID:10012058-1778112000-1778194799@westtradies.com.au
SUMMARY:UFC
DESCRIPTION:
URL:https://westtradies.com.au/event/ufc/2026-05-07/
CATEGORIES:Live Sport
ATTACH;FMTTYPE=image/jpeg:https://westtradies.com.au/wp-content/uploads/2023/11/UVP-UFC-Web-595x842-1-e1700455652826.jpg
END:VEVENT
BEGIN:VEVENT
DTSTART;VALUE=DATE:20260507
DTEND;VALUE=DATE:20260508
DTSTAMP:20260426T032720
CREATED:20231120T052417Z
LAST-MODIFIED:20231120T062243Z
UID:10015714-1778112000-1778194799@westtradies.com.au
SUMMARY:NBA
DESCRIPTION:
URL:https://westtradies.com.au/event/nba/2026-05-07/
CATEGORIES:Live Sport
ATTACH;FMTTYPE=image/jpeg:https://westtradies.com.au/wp-content/uploads/2023/11/ESPN-NBA-1080x1080-1-e1700457722201.jpg
END:VEVENT
BEGIN:VEVENT
DTSTART;TZID=Australia/Sydney:20260507T163000
DTEND;TZID=Australia/Sydney:20260507T210000
DTSTAMP:20260426T032720
CREATED:20231120T025930Z
LAST-MODIFIED:20250421T053552Z
UID:10008878-1778171400-1778187600@westtradies.com.au
SUMMARY:$15 Chicken Schnitzel
DESCRIPTION:
URL:https://westtradies.com.au/event/15-pizzas/2026-05-07/
CATEGORIES:Food & Bev Specials
ATTACH;FMTTYPE=image/jpeg:https://westtradies.com.au/wp-content/uploads/2023/11/THURSDAY-SPECIAL-1080-X-1080-Presentation-169.jpg
END:VEVENT
BEGIN:VEVENT
DTSTART;TZID=Australia/Sydney:20260508T200000
DTEND;TZID=Australia/Sydney:20260508T230000
DTSTAMP:20260426T032720
CREATED:20250414T064408Z
LAST-MODIFIED:20260415T022320Z
UID:10022450-1778270400-1778281200@westtradies.com.au
SUMMARY:The Echoes
DESCRIPTION:
URL:https://westtradies.com.au/event/the-echoes-4/
CATEGORIES:Live Music
ATTACH;FMTTYPE=image/png:https://westtradies.com.au/wp-content/uploads/2024/06/2-1.png
END:VEVENT
BEGIN:VEVENT
DTSTART;TZID=Australia/Sydney:20260509T200000
DTEND;TZID=Australia/Sydney:20260509T230000
DTSTAMP:20260426T032720
CREATED:20251029T035020Z
LAST-MODIFIED:20260415T022352Z
UID:10023462-1778356800-1778367600@westtradies.com.au
SUMMARY:Sounds About Right
DESCRIPTION:
URL:https://westtradies.com.au/event/sounds-about-right/
CATEGORIES:Live Music
ATTACH;FMTTYPE=image/jpeg:https://westtradies.com.au/wp-content/uploads/2025/10/Sounds-about-right.jpg
END:VEVENT
BEGIN:VEVENT
DTSTART;TZID=Australia/Sydney:20260510T110000
DTEND;TZID=Australia/Sydney:20260510T210000
DTSTAMP:20260426T032720
CREATED:20231120T030902Z
LAST-MODIFIED:20231123T025016Z
UID:10009139-1778410800-1778446800@westtradies.com.au
SUMMARY:Free Gelato
DESCRIPTION:
URL:https://westtradies.com.au/event/free-gelato/2026-05-10/
CATEGORIES:Food & Bev Specials
ATTACH;FMTTYPE=image/jpeg:https://westtradies.com.au/wp-content/uploads/2023/08/GZR62714-scaled-e1700449722760.jpg
END:VEVENT
BEGIN:VEVENT
DTSTART;VALUE=DATE:20260511
DTEND;VALUE=DATE:20260512
DTSTAMP:20260426T032720
CREATED:20231120T012720Z
LAST-MODIFIED:20250421T053235Z
UID:10008356-1778457600-1778543999@westtradies.com.au
SUMMARY:$15 Curry Night
DESCRIPTION:
URL:https://westtradies.com.au/event/any-pasta-15/2026-05-11/
CATEGORIES:Food & Bev Specials
ATTACH;FMTTYPE=image/jpeg:https://westtradies.com.au/wp-content/uploads/2023/11/MONDAY-SPECIAL-1080-X-1080-Presentation-169.jpg
END:VEVENT
BEGIN:VEVENT
DTSTART;TZID=Australia/Sydney:20260513T163000
DTEND;TZID=Australia/Sydney:20260513T210000
DTSTAMP:20260426T032720
CREATED:20231120T013447Z
LAST-MODIFIED:20250421T053429Z
UID:10008618-1778689800-1778706000@westtradies.com.au
SUMMARY:$15 Beef Burger
DESCRIPTION:
URL:https://westtradies.com.au/event/20-steak-schooner/2026-05-13/
CATEGORIES:Food & Bev Specials
ATTACH;FMTTYPE=image/jpeg:https://westtradies.com.au/wp-content/uploads/2023/11/Wednesday-special-1080-X-1080-Presentation-169.jpg
END:VEVENT
BEGIN:VEVENT
DTSTART;TZID=Australia/Sydney:20260515T200000
DTEND;TZID=Australia/Sydney:20260515T230000
DTSTAMP:20260426T032720
CREATED:20250303T061155Z
LAST-MODIFIED:20260423T013625Z
UID:10022216-1778875200-1778886000@westtradies.com.au
SUMMARY:Face 2 Face
DESCRIPTION:
URL:https://westtradies.com.au/event/face-2-face-2/
CATEGORIES:Live Music
ATTACH;FMTTYPE=image/png:https://westtradies.com.au/wp-content/uploads/2023/12/Face2Face-Band-Image-1020-x-768-px.png
END:VEVENT
BEGIN:VEVENT
DTSTART;TZID=Australia/Sydney:20260516T200000
DTEND;TZID=Australia/Sydney:20260516T230000
DTSTAMP:20260426T032720
CREATED:20251228T222856Z
LAST-MODIFIED:20260415T023250Z
UID:10024120-1778961600-1778972400@westtradies.com.au
SUMMARY:KicKstar Duo
DESCRIPTION:
URL:https://westtradies.com.au/event/kickstar-duo/
CATEGORIES:Live Music
ATTACH;FMTTYPE=image/jpeg:https://westtradies.com.au/wp-content/uploads/2025/12/Kick-Start-scaled.jpeg
END:VEVENT
BEGIN:VEVENT
DTSTART;TZID=Australia/Sydney:20260522T200000
DTEND;TZID=Australia/Sydney:20260522T230000
DTSTAMP:20260426T032720
CREATED:20241022T064233Z
LAST-MODIFIED:20260415T023321Z
UID:10018401-1779480000-1779490800@westtradies.com.au
SUMMARY:They Call Me Bruce
DESCRIPTION:
URL:https://westtradies.com.au/event/they-call-me-bruce/
CATEGORIES:Live Music
ATTACH;FMTTYPE=image/jpeg:https://westtradies.com.au/wp-content/uploads/2024/10/They-Call-Me-Bruce-A2-poster-scaled-e1729579333824.jpg
END:VEVENT
BEGIN:VEVENT
DTSTART;TZID=Australia/Sydney:20260523T200000
DTEND;TZID=Australia/Sydney:20260523T230000
DTSTAMP:20260426T032720
CREATED:20260423T013139Z
LAST-MODIFIED:20260423T013139Z
UID:10025541-1779566400-1779577200@westtradies.com.au
SUMMARY:STARLIGHT
DESCRIPTION:
URL:https://westtradies.com.au/event/starlight/
CATEGORIES:Live Music
ATTACH;FMTTYPE=image/png:https://westtradies.com.au/wp-content/uploads/2026/04/Starlight.png
END:VEVENT
BEGIN:VEVENT
DTSTART;VALUE=DATE:20260528
DTEND;VALUE=DATE:20260529
DTSTAMP:20260426T032720
CREATED:20251219T104210Z
LAST-MODIFIED:20251219T104210Z
UID:10024011-1779926400-1780012799@westtradies.com.au
SUMMARY:Money Madness
DESCRIPTION:
URL:https://westtradies.com.au/event/money-madness-2-2/2026-05-28/
CATEGORIES:Major Promotions,Special Events
ATTACH;FMTTYPE=image/jpeg:https://westtradies.com.au/wp-content/uploads/2024/02/Money-Madness-Website-Feature-Image.jpg
END:VEVENT
BEGIN:VEVENT
DTSTART;TZID=Australia/Sydney:20260529T203000
DTEND;TZID=Australia/Sydney:20260529T230000
DTSTAMP:20260426T032720
CREATED:20241001T060528Z
LAST-MODIFIED:20260421T025502Z
UID:10018397-1780086600-1780095600@westtradies.com.au
SUMMARY:Beatworx
DESCRIPTION:
URL:https://westtradies.com.au/event/beatworx/
CATEGORIES:Live Music
ATTACH;FMTTYPE=image/jpeg:https://westtradies.com.au/wp-content/uploads/2024/10/Beatworx-2.jpg
END:VEVENT
END:VCALENDAR