BEGIN:VCALENDAR
VERSION:2.0
PRODID:-//West Tradies - ECPv6.15.20//NONSGML v1.0//EN
CALSCALE:GREGORIAN
METHOD:PUBLISH
X-WR-CALNAME:West Tradies
X-ORIGINAL-URL:https://westtradies.com.au
X-WR-CALDESC:Events for West Tradies
REFRESH-INTERVAL;VALUE=DURATION:PT1H
X-Robots-Tag:noindex
X-PUBLISHED-TTL:PT1H
BEGIN:VTIMEZONE
TZID:Australia/Sydney
BEGIN:STANDARD
TZOFFSETFROM:+1100
TZOFFSETTO:+1000
TZNAME:AEST
DTSTART:20250405T160000
END:STANDARD
BEGIN:DAYLIGHT
TZOFFSETFROM:+1000
TZOFFSETTO:+1100
TZNAME:AEDT
DTSTART:20251004T160000
END:DAYLIGHT
BEGIN:STANDARD
TZOFFSETFROM:+1100
TZOFFSETTO:+1000
TZNAME:AEST
DTSTART:20260404T160000
END:STANDARD
BEGIN:DAYLIGHT
TZOFFSETFROM:+1000
TZOFFSETTO:+1100
TZNAME:AEDT
DTSTART:20261003T160000
END:DAYLIGHT
BEGIN:STANDARD
TZOFFSETFROM:+1100
TZOFFSETTO:+1000
TZNAME:AEST
DTSTART:20270403T160000
END:STANDARD
BEGIN:DAYLIGHT
TZOFFSETFROM:+1000
TZOFFSETTO:+1100
TZNAME:AEDT
DTSTART:20271002T160000
END:DAYLIGHT
END:VTIMEZONE
BEGIN:VEVENT
DTSTART;VALUE=DATE:20260425
DTEND;VALUE=DATE:20261004
DTSTAMP:20260426T002918
CREATED:20240228T065127Z
LAST-MODIFIED:20240228T065132Z
UID:10013874-1777075200-1791003599@westtradies.com.au
SUMMARY:NFL
DESCRIPTION:
URL:https://westtradies.com.au/event/nfl-2/2026-04-25/
CATEGORIES:Live Sport
ATTACH;FMTTYPE=image/jpeg:https://westtradies.com.au/wp-content/uploads/2023/11/ESPN-NFL-1080x1080-1-e1700456246220.jpg
END:VEVENT
END:VCALENDAR